0.3
0
0
-0.3
372000.15
4184999.85
