0.3
0
0
-0.3
366000.15
4205999.85
