0.3
0
0
-0.3
360000.15
4217999.85
