0.3
0
0
-0.3
351000.15
4205999.85
