0.3
0
0
-0.3
348000.15
4247999.85
