0.3
0
0
-0.3
348000.15
4211999.85
