0.3
0
0
-0.3
345000.15
4244999.85
