0.3
0
0
-0.3
345000.15
4235999.85
