0.3
0
0
-0.3
342000.15
4223999.85
