0.3
0
0
-0.3
342000.15
4214999.85
