0.3
0
0
-0.3
339000.15
4226999.85
