0.3
0
0
-0.3
336000.15
4235999.85
