0.500
0.000
0.000
-0.500
1420000.250
772499.750
