0.500
0.000
0.000
-0.500
1417500.250
772499.750
