0.500
0.000
0.000
-0.500
1417500.250
769999.750
