0.500
0.000
0.000
-0.500
1412500.250
762499.750
