0.500
0.000
0.000
-0.500
1405000.250
729999.750
