0.500
0.000
0.000
-0.500
1402500.250
737499.750
