0.500
0.000
0.000
-0.500
1397500.250
727499.750
