0.500
0.000
0.000
-0.500
1395000.250
754999.750
