0.500
0.000
0.000
-0.500
1390000.250
752499.750
