0.500
0.000
0.000
-0.500
1390000.250
722499.750
