0.500
0.000
0.000
-0.500
1387500.250
759999.750
