0.500
0.000
0.000
-0.500
1387500.250
744999.750
