0.500
0.000
0.000
-0.500
1387500.250
739999.750
