0.500
0.000
0.000
-0.500
1382500.250
752499.750
