0.500
0.000
0.000
-0.500
1380000.250
747499.750
