0.500
0.000
0.000
-0.500
1377500.250
702499.750
