0.500
0.000
0.000
-0.500
1375000.250
714999.750
