0.500
0.000
0.000
-0.500
1372500.250
707499.750
