0.500
0.000
0.000
-0.500
1370000.250
719999.750
