0.500
0.000
0.000
-0.500
1370000.250
704999.750
