0.500
0.000
0.000
-0.500
1367500.250
724999.750
