0.500
0.000
0.000
-0.500
1365000.250
732499.750
