0.500
0.000
0.000
-0.500
1362500.250
717499.750
