0.500
0.000
0.000
-0.500
1352500.250
704999.750
