0.500
0.000
0.000
-0.500
1347500.250
709999.750
