0.500
0.000
0.000
-0.500
1345000.250
724999.750
