0.500
0.000
0.000
-0.500
1345000.250
697499.750
