0.500
0.000
0.000
-0.500
1342500.250
689999.750
