0.500000
0.000000
0.000000
-0.500000
1340000.250000
737499.750000
