0.500
0.000
0.000
-0.500
1337500.250
679999.750
