0.500
0.000
0.000
-0.500
1335000.250
742499.750
