0.500
0.000
0.000
-0.500
1332500.250
662499.750
