0.500
0.000
0.000
-0.500
1330000.250
697499.750
