0.500
0.000
0.000
-0.500
1327500.250
729999.750
