0.500
0.000
0.000
-0.500
1325000.250
709999.750
