0.500
0.000
0.000
-0.500
1322500.250
689999.750
