0.500
0.000
0.000
-0.500
1320000.250
674999.750
