0.500
0.000
0.000
-0.500
1320000.250
669999.750
